BEGIN:VCALENDAR
VERSION:2.0
PRODID:-//[ zamma ] - ECPv6.15.20//NONSGML v1.0//EN
CALSCALE:GREGORIAN
METHOD:PUBLISH
X-WR-CALNAME:[ zamma ]
X-ORIGINAL-URL:https://www.zamma-geradstetten.de
X-WR-CALDESC:Veranstaltungen für [ zamma ]
REFRESH-INTERVAL;VALUE=DURATION:PT1H
X-Robots-Tag:noindex
X-PUBLISHED-TTL:PT1H
BEGIN:VTIMEZONE
TZID:Europe/Berlin
BEGIN:DAYLIGHT
TZOFFSETFROM:+0100
TZOFFSETTO:+0200
TZNAME:CEST
DTSTART:20220327T010000
END:DAYLIGHT
BEGIN:STANDARD
TZOFFSETFROM:+0200
TZOFFSETTO:+0100
TZNAME:CET
DTSTART:20221030T010000
END:STANDARD
BEGIN:DAYLIGHT
TZOFFSETFROM:+0100
TZOFFSETTO:+0200
TZNAME:CEST
DTSTART:20230326T010000
END:DAYLIGHT
BEGIN:STANDARD
TZOFFSETFROM:+0200
TZOFFSETTO:+0100
TZNAME:CET
DTSTART:20231029T010000
END:STANDARD
BEGIN:DAYLIGHT
TZOFFSETFROM:+0100
TZOFFSETTO:+0200
TZNAME:CEST
DTSTART:20240331T010000
END:DAYLIGHT
BEGIN:STANDARD
TZOFFSETFROM:+0200
TZOFFSETTO:+0100
TZNAME:CET
DTSTART:20241027T010000
END:STANDARD
END:VTIMEZONE
BEGIN:VEVENT
DTSTART;TZID=Europe/Berlin:20231005T203000
DTEND;TZID=Europe/Berlin:20231006T000000
DTSTAMP:20260419T163212
CREATED:20230315T105556Z
LAST-MODIFIED:20230315T105558Z
UID:17421-1696537800-1696550400@www.zamma-geradstetten.de
SUMMARY:Live Musik im Bistro - Jürgen Hörig & Benny Eisel
DESCRIPTION:Freut euch auf den 3. Besuch und eingängige Pop-Songs vom sympathischen Entertainer und seinem Gitarristen. \n\n\n\nIm Hauptberuf ist der 50-jährige Jürgen Hörig seit fast 20 Jahren TV-Moderator. Seine Zuschauer kennen den gebürtigen Rastatter aus der SWR-Landesschau oder Kaffee-oder-Tee. Die Musik war schon immer ein wichtiger Teil in seinem Leben\, allerdings bis zu seiner ersten Veröffentlichung 2015 eher passiv. Seine Songs machen Lust aufs Zuhören. Sie sind mal melancholisch\, mal fröhlich\, mal voller Rhythmus\, mal wuchtig und mal zart. Getragen von Hörig’s warmer Stimme\, die es schafft\, jedem Song eine ganz spezielle Note zu geben. Von weich und gefühlvoll bis zu kraftvoll und stark – voller Ausdruck und Charakter. Sein Sound weckt so viele Assoziationen. Ein bisschen 80er\, ein bisschen Club\, ein bisschen Singer-Songwriter – und dennoch etwas ganz Eigenes. \n\n\n\nHier könnte ihr euch Videos zur Musik anschauen!
URL:https://www.zamma-geradstetten.de/event/live-musik-im-bistro-juergen-hoerig-benny-eisel/
END:VEVENT
BEGIN:VEVENT
DTSTART;TZID=Europe/Berlin:20231006T200000
DTEND;TZID=Europe/Berlin:20231007T000000
DTSTAMP:20260419T163212
CREATED:20221207T130957Z
LAST-MODIFIED:20230626T153648Z
UID:15190-1696622400-1696636800@www.zamma-geradstetten.de
SUMMARY:Weintheke Remshalden
DESCRIPTION:jeden 1. Freitag im Monat – Weintheke Remshalden [ zamma ] probieren. \n\n\n\nRemshaldener Wengerter präsentieren ihre Weine!
URL:https://www.zamma-geradstetten.de/event/weintheke-remshalden-8/
LOCATION:Hofraum im [ zamma ]\, Untere Hauptstraße 10\, Remshalden\, 73630\, Deutschland
ATTACH;FMTTYPE=image/jpeg:https://www.zamma-geradstetten.de/wp-content/uploads/2022/12/Weintheke_by_Lukas_Ellwanger.jpg
END:VEVENT
BEGIN:VEVENT
DTSTART;TZID=Europe/Berlin:20231007T163000
DTEND;TZID=Europe/Berlin:20231007T220000
DTSTAMP:20260419T163212
CREATED:20230828T145426Z
LAST-MODIFIED:20230828T145428Z
UID:20591-1696696200-1696716000@www.zamma-geradstetten.de
SUMMARY:VfB Stuttgart vs. VfL Wolfsburg - 7. Spieltag
DESCRIPTION:Auch in der Saison 23/24 im [ zamma ] VfB gucka ++ Wir übertragen alle Spiele für euch auf der Großbildleinwand ++  Wir sind der 12. Mann und geben alles im Stadion und im [ zamma ] ! \n\n\n\nEine Stunde vor Spielbeginn sind wir für euch bereit zum warm up mit der beliebten Stadionroten im knusprigen Brötchen und einer großen Auswahl an flüssigem Gold.Ob kühles Jacobs-Weißbier (auch alkoholfrei)\, Stuttgarter Hofbräu\, Berg Ulrichsbier\, Gaffel Sonnenhopfen\, Guinness Draught Stout \,Hochdorfer Naturradler oder Clausthaler (alkoholfrei) es ist für jeden was dabei. Natürlich ist auch alles andere auf unserer Getränkekarte für euch kühl gestellt.  \n\n\n\nDas [ zamma ] Team freut sich auf euer Kommen\, gerne in Trikot und mit Fahne! Zur Einstimmung die Hymne 5 min vor Spielbeginn aus vollen Kehlen gesungen: Wolle Kriwanek\, Stuttgart kommt und dann Leidenschaft über 90 min in der Kurve und im [ zamma ] 
URL:https://www.zamma-geradstetten.de/event/vfb-stuttgart-vs-vfl-wolfsburg-7-spieltag/
LOCATION:Hofraum im [ zamma ]\, Untere Hauptstraße 10\, Remshalden\, 73630\, Deutschland
END:VEVENT
BEGIN:VEVENT
DTSTART;TZID=Europe/Berlin:20231012T210000
DTEND;TZID=Europe/Berlin:20231013T000000
DTSTAMP:20260419T163212
CREATED:20230228T095514Z
LAST-MODIFIED:20230228T095517Z
UID:16577-1697144400-1697155200@www.zamma-geradstetten.de
SUMMARY:Live Musik im Bistro - Aljosha Konter & Philipp Marx
DESCRIPTION:Zum zweiten Mal sorgt der sympathische Wahl-Stuttgarter für “Liebemacher-Pop” im [ zamma ] . \n\n\n\nLasst euch überraschen was der Vollblutmusiker\, der „The Voice of Germany“ abgesagt hat\, weil er sich so gar nicht identifizieren möchte\, für euch bereit hält. Wir freuen uns sehr ihn wieder bei uns begrüßen zu dürfen – diesmal in Begleitung von Philipp Marx. \n\n\n\nHier in seine Musik reinhören!
URL:https://www.zamma-geradstetten.de/event/live-musik-im-bistro-aljosha-konter-philipp-marx/
ATTACH;FMTTYPE=image/jpeg:https://www.zamma-geradstetten.de/wp-content/uploads/2022/10/Bild03_Aljosha-Konter_c-Alexander-Kaemmer-min.jpeg
END:VEVENT
BEGIN:VEVENT
DTSTART;TZID=Europe/Berlin:20231015T160000
DTEND;TZID=Europe/Berlin:20231015T190000
DTSTAMP:20260419T163212
CREATED:20221207T132754Z
LAST-MODIFIED:20230228T101209Z
UID:15207-1697385600-1697396400@www.zamma-geradstetten.de
SUMMARY:Café mit der ev. Kirche Geradstetten
DESCRIPTION:Herzliche Einladung zum Café mit hausgemachten Kuchen und feinen Café-Spezialitäten. Ein gemütlicher Nachmittag zum schwätza und genießa mit der evangelischen Kirchengemeinde und dem [ zamma ] Team.
URL:https://www.zamma-geradstetten.de/event/cafe-mit-der-ev-kirche-geradstetten-5/
LOCATION:Hofraum im [ zamma ]\, Untere Hauptstraße 10\, Remshalden\, 73630\, Deutschland
ATTACH;FMTTYPE=image/jpeg:https://www.zamma-geradstetten.de/wp-content/uploads/2022/01/2019-leckerer-Kuchen-.jpg
ORGANIZER;CN="Hofraum GbR":MAILTO:info@hofraum.com
END:VEVENT
BEGIN:VEVENT
DTSTART;TZID=Europe/Berlin:20231019T203000
DTEND;TZID=Europe/Berlin:20231020T000000
DTSTAMP:20260419T163212
CREATED:20230214T124641Z
LAST-MODIFIED:20230614T101145Z
UID:16109-1697747400-1697760000@www.zamma-geradstetten.de
SUMMARY:Live Musik im Bistro - Danielle Duval
DESCRIPTION:Die in Montreal geborene in Toronto wohnhafte bilinguale Indie-Rockerin hat ein Händchen dafür\, melodiöse und rockige Popsongs zu schreiben. \n\n\n\nMit ansteckenden Melodien und Hooks zieht euch die Kanadierin in ihren Bann\, während die Ehrlichkeit und Tiefe der Emotionen euch dort halten!
URL:https://www.zamma-geradstetten.de/event/live-musik-im-bistro-danielle-duval/
LOCATION:Hofraum im [ zamma ]\, Untere Hauptstraße 10\, Remshalden\, 73630\, Deutschland
END:VEVENT
BEGIN:VEVENT
DTSTART;TZID=Europe/Berlin:20231021T163000
DTEND;TZID=Europe/Berlin:20231021T220000
DTSTAMP:20260419T163212
CREATED:20230828T145807Z
LAST-MODIFIED:20230828T145809Z
UID:20593-1697905800-1697925600@www.zamma-geradstetten.de
SUMMARY:1. FC Union Berlin - VfB Stuttgart - 8. Spieltag
DESCRIPTION:Auch in der Saison 23/24 im [ zamma ] VfB gucka ++ Wir übertragen alle Spiele für euch auf der Großbildleinwand ++  Wir sind der 12. Mann und geben alles im Stadion und im [ zamma ] ! \n\n\n\nEine Stunde vor Spielbeginn sind wir für euch bereit zum warm up mit der beliebten Stadionroten im knusprigen Brötchen und einer großen Auswahl an flüssigem Gold.Ob kühles Jacobs-Weißbier (auch alkoholfrei)\, Stuttgarter Hofbräu\, Berg Ulrichsbier\, Gaffel Sonnenhopfen\, Guinness Draught Stout \,Hochdorfer Naturradler oder Clausthaler (alkoholfrei) es ist für jeden was dabei. Natürlich ist auch alles andere auf unserer Getränkekarte für euch kühl gestellt.  \n\n\n\nDas [ zamma ] Team freut sich auf euer Kommen\, gerne in Trikot und mit Fahne! Zur Einstimmung die Hymne 5 min vor Spielbeginn aus vollen Kehlen gesungen: Wolle Kriwanek\, Stuttgart kommt und dann Leidenschaft über 90 min in der Kurve und im [ zamma ] 
URL:https://www.zamma-geradstetten.de/event/1-fc-union-berlin-vfb-stuttgart-8-spieltag/
LOCATION:Hofraum im [ zamma ]\, Untere Hauptstraße 10\, Remshalden\, 73630\, Deutschland
END:VEVENT
BEGIN:VEVENT
DTSTART;TZID=Europe/Berlin:20231026T210000
DTEND;TZID=Europe/Berlin:20231027T010000
DTSTAMP:20260419T163212
CREATED:20230315T105827Z
LAST-MODIFIED:20230902T072638Z
UID:17423-1698354000-1698368400@www.zamma-geradstetten.de
SUMMARY:DJ SAWA legt auf
DESCRIPTION:Willkommen zum ersten Disco Abend im [ zamma ] ++ tanzen ++ tanzen++ tanzen   \n\n\n\nSAWA legt einen bunten Mix für euch auf und ihr tanzt den ganzen Abend\, wenn ihr nicht unsere Cocktails schlürft oder euch an der Theke im Hof mit einem Bierchen entspannt. 
URL:https://www.zamma-geradstetten.de/event/live-musik-im-bistro-supreme-blend/
LOCATION:Hofraum im [ zamma ]\, Untere Hauptstraße 10\, Remshalden\, 73630\, Deutschland
END:VEVENT
BEGIN:VEVENT
DTSTART;TZID=Europe/Berlin:20231028T163000
DTEND;TZID=Europe/Berlin:20231028T220000
DTSTAMP:20260419T163212
CREATED:20230828T150054Z
LAST-MODIFIED:20230828T150056Z
UID:20595-1698510600-1698530400@www.zamma-geradstetten.de
SUMMARY:VfB Stuttgart - TSG Hoffenheim - 9. Spieltag
DESCRIPTION:Auch in der Saison 23/24 im [ zamma ] VfB gucka ++ Wir übertragen alle Spiele für euch auf der Großbildleinwand ++  Wir sind der 12. Mann und geben alles im Stadion und im [ zamma ] ! \n\n\n\nEine Stunde vor Spielbeginn sind wir für euch bereit zum warm up mit der beliebten Stadionroten im knusprigen Brötchen und einer großen Auswahl an flüssigem Gold.Ob kühles Jacobs-Weißbier (auch alkoholfrei)\, Stuttgarter Hofbräu\, Berg Ulrichsbier\, Gaffel Sonnenhopfen\, Guinness Draught Stout \,Hochdorfer Naturradler oder Clausthaler (alkoholfrei) es ist für jeden was dabei. Natürlich ist auch alles andere auf unserer Getränkekarte für euch kühl gestellt.  \n\n\n\nDas [ zamma ] Team freut sich auf euer Kommen\, gerne in Trikot und mit Fahne! Zur Einstimmung die Hymne 5 min vor Spielbeginn aus vollen Kehlen gesungen: Wolle Kriwanek\, Stuttgart kommt und dann Leidenschaft über 90 min in der Kurve und im [ zamma ] 
URL:https://www.zamma-geradstetten.de/event/vfb-stuttgart-tsg-hoffenheim-9-spieltag/
LOCATION:Hofraum im [ zamma ]\, Untere Hauptstraße 10\, Remshalden\, 73630\, Deutschland
END:VEVENT
END:VCALENDAR