BEGIN:VCALENDAR
VERSION:2.0
PRODID:-//[ zamma ] - ECPv6.15.20//NONSGML v1.0//EN
CALSCALE:GREGORIAN
METHOD:PUBLISH
X-ORIGINAL-URL:https://www.zamma-geradstetten.de
X-WR-CALDESC:Veranstaltungen für [ zamma ]
REFRESH-INTERVAL;VALUE=DURATION:PT1H
X-Robots-Tag:noindex
X-PUBLISHED-TTL:PT1H
BEGIN:VTIMEZONE
TZID:Europe/Berlin
BEGIN:DAYLIGHT
TZOFFSETFROM:+0100
TZOFFSETTO:+0200
TZNAME:CEST
DTSTART:20220327T010000
END:DAYLIGHT
BEGIN:STANDARD
TZOFFSETFROM:+0200
TZOFFSETTO:+0100
TZNAME:CET
DTSTART:20221030T010000
END:STANDARD
BEGIN:DAYLIGHT
TZOFFSETFROM:+0100
TZOFFSETTO:+0200
TZNAME:CEST
DTSTART:20230326T010000
END:DAYLIGHT
BEGIN:STANDARD
TZOFFSETFROM:+0200
TZOFFSETTO:+0100
TZNAME:CET
DTSTART:20231029T010000
END:STANDARD
BEGIN:DAYLIGHT
TZOFFSETFROM:+0100
TZOFFSETTO:+0200
TZNAME:CEST
DTSTART:20240331T010000
END:DAYLIGHT
BEGIN:STANDARD
TZOFFSETFROM:+0200
TZOFFSETTO:+0100
TZNAME:CET
DTSTART:20241027T010000
END:STANDARD
END:VTIMEZONE
BEGIN:VEVENT
DTSTART;TZID=Europe/Berlin:20230803T203000
DTEND;TZID=Europe/Berlin:20230804T000000
DTSTAMP:20260419T193548
CREATED:20230614T093904Z
LAST-MODIFIED:20230614T094236Z
UID:19352-1691094600-1691107200@www.zamma-geradstetten.de
SUMMARY:Live Musik im Bistro - Beachwood Cat
DESCRIPTION:bei gutem Wetter: OPEN AIR \n\n\n\nmusikalischer Roadtrip zwischen Pop\, Folk\, Soul und jazzigen Anklängen. \n\n\n\nReduziert auf zweistimmigen Gesang und Gitarre interpretieren sie die Songs auf ihre Weise. Auch eigene Songs mischen sich ins Programm der beiden.
URL:https://www.zamma-geradstetten.de/event/live-musik-im-bistro-beachwood-cat/
LOCATION:Hofraum im [ zamma ]\, Untere Hauptstraße 10\, Remshalden\, 73630\, Deutschland
ATTACH;FMTTYPE=image/jpeg:https://www.zamma-geradstetten.de/wp-content/uploads/2023/06/22-08-25-Beachwood-cat-5-scaled.jpeg
END:VEVENT
BEGIN:VEVENT
DTSTART;TZID=Europe/Berlin:20230804T200000
DTEND;TZID=Europe/Berlin:20230805T000000
DTSTAMP:20260419T193548
CREATED:20221207T130908Z
LAST-MODIFIED:20230626T153358Z
UID:15186-1691179200-1691193600@www.zamma-geradstetten.de
SUMMARY:Weintheke Remshalden
DESCRIPTION:jeden 1. Freitag im Monat – Weintheke Remshalden [ zamma ] probieren. \n\n\n\nRemshaldener Wengerter präsentieren ihre Weine!
URL:https://www.zamma-geradstetten.de/event/weintheke-remshalden-6/
LOCATION:Hofraum im [ zamma ]\, Untere Hauptstraße 10\, Remshalden\, 73630\, Deutschland
ATTACH;FMTTYPE=image/jpeg:https://www.zamma-geradstetten.de/wp-content/uploads/2022/12/Weintheke_by_Lukas_Ellwanger.jpg
END:VEVENT
BEGIN:VEVENT
DTSTART;TZID=Europe/Berlin:20230806T180000
DTEND;TZID=Europe/Berlin:20230806T210000
DTSTAMP:20260419T193548
CREATED:20230703T123536Z
LAST-MODIFIED:20230703T125419Z
UID:19577-1691344800-1691355600@www.zamma-geradstetten.de
SUMMARY:Flo Ostertag und Nasim - Tour de Ländle
DESCRIPTION:Bei gutem Wetter Open Air;  \n\n\n\nFlorian Ostertag und Nasim zwei sympatische Folk-Musiker aus dem Ländle schwingen sich auf ihre Fahrräder und radeln durch Baden-Württemberg. Stilistisch bewegen sich ihre Musik irgendwo zwischen Joris\, Bob Dylan und Ben Howard. Nasim mit deutschen\, Florian mit englischsprachigen Texten. \n\n\n\nHier den Beitrag lesen .
URL:https://www.zamma-geradstetten.de/event/flo-ostertag-und-nasim-tour-de-laendle/
LOCATION:Hofraum im [ zamma ]\, Untere Hauptstraße 10\, Remshalden\, 73630\, Deutschland
ATTACH;FMTTYPE=image/jpeg:https://www.zamma-geradstetten.de/wp-content/uploads/2023/07/Florian-Ostertag-und-Nasim-Tour-de-Laendle-2023-Foto-Nasim-Kholti-scaled.jpg
END:VEVENT
BEGIN:VEVENT
DTSTART;TZID=Europe/Berlin:20230810T203000
DTEND;TZID=Europe/Berlin:20230811T000000
DTSTAMP:20260419T193548
CREATED:20230221T142857Z
LAST-MODIFIED:20230529T170938Z
UID:16337-1691699400-1691712000@www.zamma-geradstetten.de
SUMMARY:Live Musik im Bistro - Different Paul
DESCRIPTION:ihr bekommt groovigen Folk mit einer guten Prise Humor. Da hält es niemanden mehr auf den Stühlen!  \n\n\n\nWelcome home – da 3 der 4 Jungs aus Gera kommen ist es ein wahres Heimspiel. Wir freuen uns sehr\, dass Different Paul auch 2022 wieder auf unsere [ zamma ] Bühne kommen.  \n\n\n\nHier in ihre Musik reinhören!
URL:https://www.zamma-geradstetten.de/event/live-musik-im-bistro-ifferent-paul/
ATTACH;FMTTYPE=image/jpeg:https://www.zamma-geradstetten.de/wp-content/uploads/2019/09/DifferentPaulBandFoto_sRGB.jpg
END:VEVENT
BEGIN:VEVENT
DTSTART;TZID=Europe/Berlin:20230812T140000
DTEND;TZID=Europe/Berlin:20230812T180000
DTSTAMP:20260419T193548
CREATED:20230705T072902Z
LAST-MODIFIED:20230705T073014Z
UID:19669-1691848800-1691863200@www.zamma-geradstetten.de
SUMMARY:DFB Pokal erste Runde: Balingen - VfB
DESCRIPTION:um 12:00\, eine Stunde vor Spielbeginn öffnet das weiß-rote Scheunenstadion vor jedem Spieltag des VfB Stuttgarts. Wir übertragen für Euch auf der Großbildleinwand\, es gibt kühles Weißbier und Stadionrote. Wir sind der 12. Mann und geben alles im Stadion und im [ zamma ]. \n\n\n\nZu Gast beim TSG Balingen\, bzw. im Stadion an der Kreuzeiche in Reutlingen starten wir am Samstag den 12.August in die aktuelle Pokalrunde. Noch in Erinnerung haben wir die letze Pokalsaison mit dem packenden Halbfinale gegen Frankfurt. Nach hartem Kampf\, einem hitzigen und wendungsreichen Spiel haben wir es leider nicht bis ins Finale geschafft- aber das kann ja noch werden. \n\n\n\nHier gehts zum Beitrag für Fans 
URL:https://www.zamma-geradstetten.de/event/dfb-pokal-erste-runde-balingen-vfb/
LOCATION:Hofraum im [ zamma ]\, Untere Hauptstraße 10\, Remshalden\, 73630\, Deutschland
ATTACH;FMTTYPE=image/jpeg:https://www.zamma-geradstetten.de/wp-content/uploads/2021/03/IMG_6977-scaled.jpg
END:VEVENT
BEGIN:VEVENT
DTSTART;TZID=Europe/Berlin:20230813T160000
DTEND;TZID=Europe/Berlin:20230813T190000
DTSTAMP:20260419T193548
CREATED:20221207T132709Z
LAST-MODIFIED:20230228T101434Z
UID:15205-1691942400-1691953200@www.zamma-geradstetten.de
SUMMARY:Café mit der ev. Kirche Geradstetten
DESCRIPTION:Herzliche Einladung zum Café mit hausgemachten Kuchen und feinen Café-Spezialitäten. Ein gemütlicher Nachmittag zum schwätza und genießa mit der evangelischen Kirchengemeinde und dem [ zamma ] Team.
URL:https://www.zamma-geradstetten.de/event/cafe-mit-der-ev-kirche-geradstetten-4/
LOCATION:Hofraum im [ zamma ]\, Untere Hauptstraße 10\, Remshalden\, 73630\, Deutschland
ATTACH;FMTTYPE=image/jpeg:https://www.zamma-geradstetten.de/wp-content/uploads/2022/01/2019-leckerer-Kuchen-.jpg
ORGANIZER;CN="Hofraum GbR":MAILTO:info@hofraum.com
END:VEVENT
BEGIN:VEVENT
DTSTART;TZID=Europe/Berlin:20230817T203000
DTEND;TZID=Europe/Berlin:20230818T000000
DTSTAMP:20260419T193548
CREATED:20221207T140105Z
LAST-MODIFIED:20230228T100324Z
UID:15238-1692304200-1692316800@www.zamma-geradstetten.de
SUMMARY:Live Musik im Bistro - Colludie Stone
DESCRIPTION:stilechter Irish-Celtic Folk mit traditioneller Instrumentierung. \n\n\n\nDer großen Bandbreite an irischen Folkinstrumenten entlocken die vier Musiker einen breit gefächerten Klangteppich. Mit spürbarer Liebe und großer Begeisterung tragen sie eine Vielfalt von Songs\, Tunes und Balladen vor. Durch eigene Arrangements interpretieren sie traditionelle Stücke oftmals erfrischend neu und kombinieren diese mit modernen Songs. \n\n\n\nHier in ihre Musik reinhören!
URL:https://www.zamma-geradstetten.de/event/live-musik-im-bistro-colludie-stone/
END:VEVENT
BEGIN:VEVENT
DTSTART;TZID=Europe/Berlin:20230819T163000
DTEND;TZID=Europe/Berlin:20230819T200000
DTSTAMP:20260419T193548
CREATED:20230705T073849Z
LAST-MODIFIED:20230705T074141Z
UID:19672-1692462600-1692475200@www.zamma-geradstetten.de
SUMMARY:VfB Stuttgart - 1. Spiel der Bundesliga Saison 23/24
DESCRIPTION:der VfB bleibt erstklassig  ++ auch in der Saison 23/24 im [ zamma ] VfB gucka ++ wir übertragen alle Spiele für euch auf der Großbildleinwand ++  Wir sind der 12. Mann und geben alles im Stadion und im [ zamma ] ! \n\n\n\nEine Stunde vor Spielbeginn sind wir für euch bereit zum warm up mit der beliebten Stadionroten im knusprigen Brötchen und einer großen Auswahl an flüssigem Gold.Ob kühles Jacobs-Weißbier (auch alkoholfrei)\, Stuttgarter Hofbräu\, Berg Ulrichsbier\, Gaffel Sonnenhopfen\, Guinness Draught Stout \,Hochdorfer Naturradler oder Clausthaler (alkoholfrei) es ist für jeden was dabei. Natürlich ist auch alles andere auf unserer Getränkekarte für euch kühl gestellt.  \n\n\n\nDas [ zamma ] Team freut sich auf euer Kommen\, gerne in Trikot und mit Fahne! Zur Einstimmung die Hymne 5 min vor Spielbeginn aus vollen Kehlen gesungen: Wolle Kriwanek\, Stuttgart kommt und dann Leidenschaft über 90 min in der Kurve und im [ zamma ] 
URL:https://www.zamma-geradstetten.de/event/vfb-stuttgart-1-spiel-der-bundesliga-saison-23-24/
LOCATION:Hofraum im [ zamma ]\, Untere Hauptstraße 10\, Remshalden\, 73630\, Deutschland
ATTACH;FMTTYPE=image/jpeg:https://www.zamma-geradstetten.de/wp-content/uploads/2023/04/2023-06-05-Halbzeit-III-scaled.jpeg
END:VEVENT
BEGIN:VEVENT
DTSTART;TZID=Europe/Berlin:20230824T203000
DTEND;TZID=Europe/Berlin:20230825T000000
DTSTAMP:20260419T193548
CREATED:20230614T095615Z
LAST-MODIFIED:20230823T143422Z
UID:19357-1692909000-1692921600@www.zamma-geradstetten.de
SUMMARY:Live Musik im Bistro - Cath'n Country
DESCRIPTION:Country und Americana Musik – \n\n\n\nABGESAGT wegen Erkrankung eines BANDmitglieds. ! Wir sehen sie in 2024 wieder .
URL:https://www.zamma-geradstetten.de/event/live-musik-im-bistro-cathn-country-2/
LOCATION:Hofraum im [ zamma ]\, Untere Hauptstraße 10\, Remshalden\, 73630\, Deutschland
ATTACH;FMTTYPE=image/jpeg:https://www.zamma-geradstetten.de/wp-content/uploads/2023/06/2023-cathn-country-offiziell.jpg
END:VEVENT
BEGIN:VEVENT
DTSTART;TZID=Europe/Berlin:20230825T213000
DTEND;TZID=Europe/Berlin:20230826T010000
DTSTAMP:20260419T193548
CREATED:20230823T144256Z
LAST-MODIFIED:20230823T144444Z
UID:20572-1692999000-1693011600@www.zamma-geradstetten.de
SUMMARY:VfB Stuttgart - 2. Spieltag in Leipzig
DESCRIPTION:nach furiosem Start fahren die Jungs aus Cannstatt als Tabellenführer nach Leipzig zum ersten Flutlichtspiel der Saison und  im [ zamma ]  gucka wir auf der Großbildleinwand. \n\n\n\nAb 19:30h sind wir für euch bereit zum warm up mit der beliebten Stadionroten im knusprigen Brötchen und einer großen Auswahl an flüssigem Gold.Ob kühles Jacobs-Weißbier (auch alkoholfrei)\, Stuttgarter Hofbräu\, Berg Ulrichsbier\, Gaffel Sonnenhopfen\, Guinness Draught Stout \,Hochdorfer Naturradler oder Clausthaler (alkoholfrei) es ist für jeden was dabei. Natürlich ist auch alles andere auf unserer Getränkekarte für euch kühl gestellt.  \n\n\n\nDas [ zamma ] Team freut sich auf euer Kommen\, gerne in Trikot und mit Fahne! Zur Einstimmung die Hymne 5 min vor Spielbeginn aus vollen Kehlen gesungen: Wolle Kriwanek\, Stuttgart kommt und dann Leidenschaft über 90 min in der Kurve und im [ zamma ] 
URL:https://www.zamma-geradstetten.de/event/vfb-stuttgart-2-spieltag-in-leipzig/
LOCATION:Hofraum im [ zamma ]\, Untere Hauptstraße 10\, Remshalden\, 73630\, Deutschland
END:VEVENT
BEGIN:VEVENT
DTSTART;TZID=Europe/Berlin:20230831T203000
DTEND;TZID=Europe/Berlin:20230901T000000
DTSTAMP:20260419T193548
CREATED:20230614T100520Z
LAST-MODIFIED:20230614T100521Z
UID:19362-1693513800-1693526400@www.zamma-geradstetten.de
SUMMARY:Live Musik im Bistro - Ryan O'Reilly feat  Andrea Vittozzi
DESCRIPTION:Welcome back- überraschender Weise hat uns Ryan einen Gig Termin auf seiner aktuellen Tour angeboten und da haben wir natürlich sofort zugesagt. \n\n\n\nBegleitet wird er von Andrea Vittozzi\, einem neapolitanischen Gitarrenspieler- bald gibts mehr Infos! 
URL:https://www.zamma-geradstetten.de/event/live-musik-im-bistro-ryan-oreilly-feat-andrea-vittozzi/
LOCATION:Hofraum im [ zamma ]\, Untere Hauptstraße 10\, Remshalden\, 73630\, Deutschland
END:VEVENT
END:VCALENDAR