BEGIN:VCALENDAR
VERSION:2.0
PRODID:-//[ zamma ] - ECPv6.15.20//NONSGML v1.0//EN
CALSCALE:GREGORIAN
METHOD:PUBLISH
X-ORIGINAL-URL:https://www.zamma-geradstetten.de
X-WR-CALDESC:Veranstaltungen für [ zamma ]
REFRESH-INTERVAL;VALUE=DURATION:PT1H
X-Robots-Tag:noindex
X-PUBLISHED-TTL:PT1H
BEGIN:VTIMEZONE
TZID:Europe/Berlin
BEGIN:DAYLIGHT
TZOFFSETFROM:+0100
TZOFFSETTO:+0200
TZNAME:CEST
DTSTART:20220327T010000
END:DAYLIGHT
BEGIN:STANDARD
TZOFFSETFROM:+0200
TZOFFSETTO:+0100
TZNAME:CET
DTSTART:20221030T010000
END:STANDARD
BEGIN:DAYLIGHT
TZOFFSETFROM:+0100
TZOFFSETTO:+0200
TZNAME:CEST
DTSTART:20230326T010000
END:DAYLIGHT
BEGIN:STANDARD
TZOFFSETFROM:+0200
TZOFFSETTO:+0100
TZNAME:CET
DTSTART:20231029T010000
END:STANDARD
BEGIN:DAYLIGHT
TZOFFSETFROM:+0100
TZOFFSETTO:+0200
TZNAME:CEST
DTSTART:20240331T010000
END:DAYLIGHT
BEGIN:STANDARD
TZOFFSETFROM:+0200
TZOFFSETTO:+0100
TZNAME:CET
DTSTART:20241027T010000
END:STANDARD
END:VTIMEZONE
BEGIN:VEVENT
DTSTART;TZID=Europe/Berlin:20230706T203000
DTEND;TZID=Europe/Berlin:20230707T000000
DTSTAMP:20260419T210851
CREATED:20230614T090349Z
LAST-MODIFIED:20230614T090853Z
UID:19341-1688675400-1688688000@www.zamma-geradstetten.de
SUMMARY:Open Stage
DESCRIPTION:Die Bühne gehört Dir !  \n\n\n\nHeute zu Gast:  \n\n\n\nInga Amai\, die Studentin der Hochschule für Musik in Stuttgart in Begleitung von Gitarrist Hannes Fritz und ihrer ersten gemeinsamen Single “so why“. Ihre Leidenschaft für smoothe Lines trifft auf Elemente aus Pop\, Soul und Indie mit einem Hauch von Jazz.  \n\n\n\nDie Band “Peppi\, Chilli und BumTschack” ist ein Mix aus Singer-Songwriter Musik\, Folk und Bluegrass. Zwei Liedermacherinnen und ein Percussionist interpretieren eigene Lieder immer wieder auf neue Art und Weise.
URL:https://www.zamma-geradstetten.de/event/open-stage/
LOCATION:Hofraum im [ zamma ]\, Untere Hauptstraße 10\, Remshalden\, 73630\, Deutschland
END:VEVENT
BEGIN:VEVENT
DTSTART;TZID=Europe/Berlin:20230707T200000
DTEND;TZID=Europe/Berlin:20230708T000000
DTSTAMP:20260419T210851
CREATED:20221207T130846Z
LAST-MODIFIED:20230626T153257Z
UID:15184-1688760000-1688774400@www.zamma-geradstetten.de
SUMMARY:Große Weintheke Remshalden
DESCRIPTION:zamma probieren\, \n\n\n\nalle 8 Remshaldener Wengerter präsentieren an der großen Weintheke Remshalden ihre Weine dazu gibts live Musik von ANGR\, Rap aus Esslingen.
URL:https://www.zamma-geradstetten.de/event/weintheke-remshalden-5/
LOCATION:Hofraum im [ zamma ]\, Untere Hauptstraße 10\, Remshalden\, 73630\, Deutschland
ATTACH;FMTTYPE=image/jpeg:https://www.zamma-geradstetten.de/wp-content/uploads/2022/12/Weintheke_by_Lukas_Ellwanger.jpg
END:VEVENT
BEGIN:VEVENT
DTSTART;TZID=Europe/Berlin:20230713T203000
DTEND;TZID=Europe/Berlin:20230714T000000
DTSTAMP:20260419T210851
CREATED:20230614T092244Z
LAST-MODIFIED:20230621T161548Z
UID:19346-1689280200-1689292800@www.zamma-geradstetten.de
SUMMARY:Live Musik im Bistro - Klara Finck
DESCRIPTION:Schaut mal rein! Hier gibts die ersten Infos.
URL:https://www.zamma-geradstetten.de/event/live-musik-im-bistro-sijka/
LOCATION:Hofraum im [ zamma ]\, Untere Hauptstraße 10\, Remshalden\, 73630\, Deutschland
ATTACH;FMTTYPE=image/jpeg:https://www.zamma-geradstetten.de/wp-content/uploads/2023/06/Pressebild-1-Darek-Gontarski-Photography.jpg
END:VEVENT
BEGIN:VEVENT
DTSTART;TZID=Europe/Berlin:20230720T203000
DTEND;TZID=Europe/Berlin:20230721T000000
DTSTAMP:20260419T210851
CREATED:20230614T093024Z
LAST-MODIFIED:20230614T094531Z
UID:19349-1689885000-1689897600@www.zamma-geradstetten.de
SUMMARY:live Musik im Bistro - Walter Celi
DESCRIPTION:Auf seiner Tour durch Europa\, konnten wir den Italienischen Multi Instrumentalisten und Singer Songwriter Walter Celi für den letzten GIG bevor es wieder nach Hause geht gewinnen.  \n\n\n\nFreut euch auf eine Feuerwerk aus Piano\, Percussion \, Vocals und Loop station.
URL:https://www.zamma-geradstetten.de/event/live-musik-im-bistro-walter-celi/
LOCATION:Hofraum im [ zamma ]\, Untere Hauptstraße 10\, Remshalden\, 73630\, Deutschland
ATTACH;FMTTYPE=image/png:https://www.zamma-geradstetten.de/wp-content/uploads/2023/06/W.-Celi-Foto-.png
END:VEVENT
BEGIN:VEVENT
DTSTART;TZID=Europe/Berlin:20230727T203000
DTEND;TZID=Europe/Berlin:20230728T000000
DTSTAMP:20260419T210851
CREATED:20230214T121428Z
LAST-MODIFIED:20230614T094429Z
UID:16111-1690489800-1690502400@www.zamma-geradstetten.de
SUMMARY:Live Musik im Bistro - Änni & Jogs
DESCRIPTION:Elegant\, kess\, charmant\, das sind – Ännie&Jogs! \n\n\n\nUnd sie lieben den Swing und Jazz. Das charmante Duo aus Stuttgart verzaubert mit ihren Stimmen\, einer Gitarre\, einer Ukulele und einem guten Schuss Esprit das Publikum.  \n\n\n\nHier in ihre Musik reinhören! \n\n\n\nBei gutem Wetter: open air im Hof des [ zamma ]
URL:https://www.zamma-geradstetten.de/event/live-musik-im-bistro-aennie-und-jogs/
ATTACH;FMTTYPE=image/jpeg:https://www.zamma-geradstetten.de/wp-content/uploads/2021/05/2020-09-17-Aennie-Jogs-scaled.jpg
END:VEVENT
END:VCALENDAR