BEGIN:VCALENDAR
VERSION:2.0
PRODID:-//[ zamma ] - ECPv6.15.20//NONSGML v1.0//EN
CALSCALE:GREGORIAN
METHOD:PUBLISH
X-WR-CALNAME:[ zamma ]
X-ORIGINAL-URL:https://www.zamma-geradstetten.de
X-WR-CALDESC:Veranstaltungen für [ zamma ]
REFRESH-INTERVAL;VALUE=DURATION:PT1H
X-Robots-Tag:noindex
X-PUBLISHED-TTL:PT1H
BEGIN:VTIMEZONE
TZID:Europe/Berlin
BEGIN:DAYLIGHT
TZOFFSETFROM:+0100
TZOFFSETTO:+0200
TZNAME:CEST
DTSTART:20220327T010000
END:DAYLIGHT
BEGIN:STANDARD
TZOFFSETFROM:+0200
TZOFFSETTO:+0100
TZNAME:CET
DTSTART:20221030T010000
END:STANDARD
BEGIN:DAYLIGHT
TZOFFSETFROM:+0100
TZOFFSETTO:+0200
TZNAME:CEST
DTSTART:20230326T010000
END:DAYLIGHT
BEGIN:STANDARD
TZOFFSETFROM:+0200
TZOFFSETTO:+0100
TZNAME:CET
DTSTART:20231029T010000
END:STANDARD
BEGIN:DAYLIGHT
TZOFFSETFROM:+0100
TZOFFSETTO:+0200
TZNAME:CEST
DTSTART:20240331T010000
END:DAYLIGHT
BEGIN:STANDARD
TZOFFSETFROM:+0200
TZOFFSETTO:+0100
TZNAME:CET
DTSTART:20241027T010000
END:STANDARD
END:VTIMEZONE
BEGIN:VEVENT
DTSTART;TZID=Europe/Berlin:20230601T210000
DTEND;TZID=Europe/Berlin:20230601T223000
DTSTAMP:20260419T223915
CREATED:20230228T094431Z
LAST-MODIFIED:20230530T055843Z
UID:16571-1685653200-1685658600@www.zamma-geradstetten.de
SUMMARY:Live Musik im Bistro - Waschbrett light
DESCRIPTION:Feiner Schwabenrock zum Vorglühen auf Schwabenfußball! Waschbrett light im Duo – live auf der [ zamma ] Open Air Bühne  \n\n\n\nZwei der fünf Waschbrett-Musiker\, Steffen Kaupp (Gitarre / Gesang) und Reiner Äckerle (Keyboards / Gesang) sind mit ihren Klassikern und neuen Songs mit eigenen schwäbischen\, meist humorvollen Texten zu Gast auf der [ zamma ] Bühne. Sie überzeugen auch als Waschbrett light mit ihrer unerschöpflichen Spielfreude und Intensität.   \n\n\n\nHier in die Musik reinhören und hier die Ankündigung von der Band  \n\n\n\nHeute ohne Pause\, eineinhalb Stunden Schwabenrock pur; dann geht es mit VfB vs. HSV weiter;
URL:https://www.zamma-geradstetten.de/event/live-musik-im-bistro-waschbrett-light/
LOCATION:Hofraum im [ zamma ]\, Untere Hauptstraße 10\, Remshalden\, 73630\, Deutschland
ATTACH;FMTTYPE=image/jpeg:https://www.zamma-geradstetten.de/wp-content/uploads/2023/05/WBR-Rei-Stef-quad-scaled.jpg
END:VEVENT
BEGIN:VEVENT
DTSTART;TZID=Europe/Berlin:20230601T224500
DTEND;TZID=Europe/Berlin:20230602T010000
DTSTAMP:20260419T223915
CREATED:20230529T153021Z
LAST-MODIFIED:20230529T153022Z
UID:18786-1685659500-1685667600@www.zamma-geradstetten.de
SUMMARY:Relegation VfB vs. HSV
DESCRIPTION:Es geht in die Verlängerung! Es war alles angerichtet letzten Samstag\, die Stimmung im Stadion war grandios\, alle standen (wahrhaftig das ganze Stadion – das ganze Spiel) hinter den Jungs aus Cannstatt\, das [ zamma ] platzte aus allen Nähten\, wir alle wollten diese drei Punkte ! Und dann kommt das was der VfB am besten kann – Drama – nun haben wir eben zwei weitere Spiele um zu zeigen dass wir erstkalssig sind. Zusammen schaffen wir das! Wir zeigen beide Spiele auf Großbildleinwand. Am 1.6. bereits ab 19h mit live Musik zum vorglühen\, am 5.6. öffnen wir eine Stunde vor Spielbeginn für euch.
URL:https://www.zamma-geradstetten.de/event/relegation-vfb-vs-hsv/
LOCATION:Hofraum im [ zamma ]\, Untere Hauptstraße 10\, Remshalden\, 73630\, Deutschland
ATTACH;FMTTYPE=image/jpeg:https://www.zamma-geradstetten.de/wp-content/uploads/2021/03/20-03-VfB-Fahne_Ansicht-Strasse-3.jpeg
END:VEVENT
BEGIN:VEVENT
DTSTART;TZID=Europe/Berlin:20230602T190000
DTEND;TZID=Europe/Berlin:20230603T000000
DTSTAMP:20260419T223915
CREATED:20221207T130820Z
LAST-MODIFIED:20230228T101745Z
UID:15182-1685732400-1685750400@www.zamma-geradstetten.de
SUMMARY:Weintheke Remshalden
DESCRIPTION:jeden 1. Freitag im Monat – Weintheke Remshalden [ zamma ] probieren. \n\n\n\nRemshaldener Wengerter präsentieren ihre Weine!
URL:https://www.zamma-geradstetten.de/event/weintheke-remshalden-4/
LOCATION:Hofraum im [ zamma ]\, Untere Hauptstraße 10\, Remshalden\, 73630\, Deutschland
ATTACH;FMTTYPE=image/jpeg:https://www.zamma-geradstetten.de/wp-content/uploads/2022/12/Weintheke_by_Lukas_Ellwanger.jpg
END:VEVENT
BEGIN:VEVENT
DTSTART;TZID=Europe/Berlin:20230605T214500
DTEND;TZID=Europe/Berlin:20230606T010000
DTSTAMP:20260419T223915
CREATED:20230529T153328Z
LAST-MODIFIED:20230529T153437Z
UID:18788-1686001500-1686013200@www.zamma-geradstetten.de
SUMMARY:Relegation HSV vs. VfB
DESCRIPTION:Die Entscheidung steht an. In Hamburg nochmals alles raushauen\, Jungs aus Canstatt.Zusammen schaffen wir das! Wir zeigen das Spiel auf Großbildleinwand. Wir öffnen eine Stunde vor Spielbeginn für euch.
URL:https://www.zamma-geradstetten.de/event/relegation-hsv-vs-vfb/
LOCATION:Hofraum im [ zamma ]\, Untere Hauptstraße 10\, Remshalden\, 73630\, Deutschland
ATTACH;FMTTYPE=image/jpeg:https://www.zamma-geradstetten.de/wp-content/uploads/2021/03/20-03-VfB-Fahne_Ansicht-Strasse-3-1.jpeg
END:VEVENT
BEGIN:VEVENT
DTSTART;TZID=Europe/Berlin:20230607T210000
DTEND;TZID=Europe/Berlin:20230608T000000
DTSTAMP:20260419T223915
CREATED:20230515T165823Z
LAST-MODIFIED:20230515T165824Z
UID:18594-1686171600-1686182400@www.zamma-geradstetten.de
SUMMARY:Live Musik im Bistro- Bottom Up Jukebox
DESCRIPTION:Der legendäre JUKE BOX Abend steht an !  \n\n\n\nIhr entscheidet was heute Abend gespielt wird. Aus dem großen Repertoire von Bottom Up\, wählt ihr die Songs aus die sie euch dann in ihre einzigartigen Arrangements präsentieren. Komm vorbei und gestalte den Abend mit.  \n\n\n\nDa am Donnerstag Feiertag ist haben wir das mal spontan auf den Mittwoch verlegt. 
URL:https://www.zamma-geradstetten.de/event/live-musik-im-bistro-bottom-up-jukebox/
LOCATION:Hofraum im [ zamma ]\, Untere Hauptstraße 10\, Remshalden\, 73630\, Deutschland
END:VEVENT
BEGIN:VEVENT
DTSTART;TZID=Europe/Berlin:20230611T160000
DTEND;TZID=Europe/Berlin:20230611T190000
DTSTAMP:20260419T223915
CREATED:20221207T132611Z
LAST-MODIFIED:20230228T101730Z
UID:15203-1686499200-1686510000@www.zamma-geradstetten.de
SUMMARY:Café mit der ev. Kirche Geradstetten
DESCRIPTION:Herzliche Einladung zum Café mit hausgemachten Kuchen und feinen Café-Spezialitäten. Ein gemütlicher Nachmittag zum schwätza und genießa mit der evangelischen Kirchengemeinde und dem [ zamma ] Team.
URL:https://www.zamma-geradstetten.de/event/cafe-mit-der-ev-kirche-geradstetten-3/
LOCATION:Hofraum im [ zamma ]\, Untere Hauptstraße 10\, Remshalden\, 73630\, Deutschland
ATTACH;FMTTYPE=image/jpeg:https://www.zamma-geradstetten.de/wp-content/uploads/2022/01/2019-leckerer-Kuchen-.jpg
ORGANIZER;CN="Hofraum GbR":MAILTO:info@hofraum.com
END:VEVENT
BEGIN:VEVENT
DTSTART;TZID=Europe/Berlin:20230615T203000
DTEND;TZID=Europe/Berlin:20230616T000000
DTSTAMP:20260419T223915
CREATED:20230315T103653Z
LAST-MODIFIED:20230315T103830Z
UID:17381-1686861000-1686873600@www.zamma-geradstetten.de
SUMMARY:Krimilesung mit Live Musik​
DESCRIPTION:„Von Mord nach Süd und von Lost nach West“ Krimilesung mit Live Musik​ von Uwe Dörr. \n\n\n\nDie drei Autorinnen Mareike Fröhlich\, Daniela Berg und Martina Uhl nehmen das Publikum mit auf eine kriminelle Reise – von der Landeshauptstadt nach Esslingen am Neckar\, überqueren die Alpen\, fahren nach Italien und landen sogar in Kanada. Dabei schlüpfen die Autorinnen in verschiedene Rollen\, bieten ein stimmliches Schauspiel\, dass durch Bilder der Handlungsorte bereichert wird. Und – wie könnte es anders sein – überall\, wo die Autorinnen durchreisen\, bleibt eine Leiche zurück. Bei ihrem „Hörspiel“ bringen die Autorinnen das Publikum zum Lachen und zum Weinen – also für jedermann und jede Frau. Begleitet wird das Ganze mit kriminell guten Akkordeonklängen von Uwe Dörr.
URL:https://www.zamma-geradstetten.de/event/krimilesung-mit-live-musik/
END:VEVENT
BEGIN:VEVENT
DTSTART;TZID=Europe/Berlin:20230622T203000
DTEND;TZID=Europe/Berlin:20230623T000000
DTSTAMP:20260419T223915
CREATED:20221207T135808Z
LAST-MODIFIED:20230614T090002Z
UID:15237-1687465800-1687478400@www.zamma-geradstetten.de
SUMMARY:Live Musik im Bistro - Rich Beeston
DESCRIPTION:Sydney zu Gast ++ Pop und Folk vom australischen Singer/Songwriter ++ Live am 22.Juni 2023 im [ zamma ] Bistro! \n\n\n\nNeben seiner Solokarriere ist er außerdem der Frontmann der Rock-Pop-Band All Mankind und übernimmt dort Gesang\, Gitarre und Keyboard. Auf seiner Solo-Tournee 2023 durch Deutschland wird Rich eine Mischung aus seiner eigenen Solomusik\, Songs von All Mankind und ein paar seiner Lieblingssongs anderer Künstler spielen.  \n\n\n\nHier in seine Musik reinhören!
URL:https://www.zamma-geradstetten.de/event/live-musik-im-bistro-rich-beeston/
LOCATION:Hofraum im [ zamma ]\, Untere Hauptstraße 10\, Remshalden\, 73630\, Deutschland
ATTACH;FMTTYPE=image/png:https://www.zamma-geradstetten.de/wp-content/uploads/2023/06/Rich-Beeston-Germany-Tour-2023-Poster.png
END:VEVENT
BEGIN:VEVENT
DTSTART;TZID=Europe/Berlin:20230629T200000
DTEND;TZID=Europe/Berlin:20230630T000000
DTSTAMP:20260419T223915
CREATED:20221207T135934Z
LAST-MODIFIED:20230626T142132Z
UID:15239-1688068800-1688083200@www.zamma-geradstetten.de
SUMMARY:Kunst Bistro statt Live Musik
DESCRIPTION:ABSAGE ++ verschoben aufs Frühjahr 2024; \n\n\n\n \n\n\n\nLeider muß Peter Groesdonk all seine Konzerte für 2023 absagen. Wir freuen uns ihn im Frühjahr 2024 begrüßen zu dürfen. Sobald der Termin steht\, erfahrt ihr das hier.  \n\n\n\nStattdessen laden wir euch ein im chilligen Hof zwischen den Kunstwerken der Ausstellung Spurensuche eine leckeren [ zamma ] Cocktail zu genießen und gemeinsam mit euren Freunden beim After Work zu entspannen.
URL:https://www.zamma-geradstetten.de/event/live-musik-im-bistro-peter-groesdonk/
LOCATION:Hofraum im [ zamma ]\, Untere Hauptstraße 10\, Remshalden\, 73630\, Deutschland
END:VEVENT
END:VCALENDAR