BEGIN:VCALENDAR
VERSION:2.0
PRODID:-//[ zamma ] - ECPv6.15.20//NONSGML v1.0//EN
CALSCALE:GREGORIAN
METHOD:PUBLISH
X-WR-CALNAME:[ zamma ]
X-ORIGINAL-URL:https://www.zamma-geradstetten.de
X-WR-CALDESC:Veranstaltungen für [ zamma ]
REFRESH-INTERVAL;VALUE=DURATION:PT1H
X-Robots-Tag:noindex
X-PUBLISHED-TTL:PT1H
BEGIN:VTIMEZONE
TZID:Europe/Berlin
BEGIN:DAYLIGHT
TZOFFSETFROM:+0100
TZOFFSETTO:+0200
TZNAME:CEST
DTSTART:20220327T010000
END:DAYLIGHT
BEGIN:STANDARD
TZOFFSETFROM:+0200
TZOFFSETTO:+0100
TZNAME:CET
DTSTART:20221030T010000
END:STANDARD
BEGIN:DAYLIGHT
TZOFFSETFROM:+0100
TZOFFSETTO:+0200
TZNAME:CEST
DTSTART:20230326T010000
END:DAYLIGHT
BEGIN:STANDARD
TZOFFSETFROM:+0200
TZOFFSETTO:+0100
TZNAME:CET
DTSTART:20231029T010000
END:STANDARD
BEGIN:DAYLIGHT
TZOFFSETFROM:+0100
TZOFFSETTO:+0200
TZNAME:CEST
DTSTART:20240331T010000
END:DAYLIGHT
BEGIN:STANDARD
TZOFFSETFROM:+0200
TZOFFSETTO:+0100
TZNAME:CET
DTSTART:20241027T010000
END:STANDARD
END:VTIMEZONE
BEGIN:VEVENT
DTSTART;TZID=Europe/Berlin:20230503T224500
DTEND;TZID=Europe/Berlin:20230504T010000
DTSTAMP:20260420T001059
CREATED:20230417T120200Z
LAST-MODIFIED:20230417T120202Z
UID:18025-1683153900-1683162000@www.zamma-geradstetten.de
SUMMARY:DFB Pokal Halbfinale
DESCRIPTION:der VfB empfängt Eintracht Frankfurt; ab 19.45h geöffnet;
URL:https://www.zamma-geradstetten.de/event/dfb-pokal-halbfinale/
LOCATION:Hofraum im [ zamma ]\, Untere Hauptstraße 10\, Remshalden\, 73630\, Deutschland
END:VEVENT
BEGIN:VEVENT
DTSTART;TZID=Europe/Berlin:20230505T190000
DTEND;TZID=Europe/Berlin:20230506T000000
DTSTAMP:20260420T001059
CREATED:20221207T130749Z
LAST-MODIFIED:20230228T101848Z
UID:15180-1683313200-1683331200@www.zamma-geradstetten.de
SUMMARY:Weintheke Remshalden
DESCRIPTION:jeden 1. Freitag im Monat – Weintheke Remshalden [ zamma ] probieren. \n\n\n\nRemshaldener Wengerter präsentieren ihre Weine!
URL:https://www.zamma-geradstetten.de/event/weintheke-remshalden-3/
LOCATION:Hofraum im [ zamma ]\, Untere Hauptstraße 10\, Remshalden\, 73630\, Deutschland
ATTACH;FMTTYPE=image/jpeg:https://www.zamma-geradstetten.de/wp-content/uploads/2022/12/Weintheke_by_Lukas_Ellwanger.jpg
END:VEVENT
BEGIN:VEVENT
DTSTART;TZID=Europe/Berlin:20230506T163000
DTEND;TZID=Europe/Berlin:20230506T200000
DTSTAMP:20260420T001059
CREATED:20230417T122215Z
LAST-MODIFIED:20230417T122216Z
UID:18033-1683390600-1683403200@www.zamma-geradstetten.de
SUMMARY:31. Spieltag Hertha vs.VfB
DESCRIPTION:Eine Stunde vor Spielbeginn öffnet das rot-weiße Scheunenstadion vor jedem Spieltag des VfB Stuttgarts. Wir übertragen für Euch auf der Großbildleinwand\, es gibt kühles Weißbier und Stadionrote.
URL:https://www.zamma-geradstetten.de/event/31-spieltag-hertha-vs-vfb/
LOCATION:Hofraum im [ zamma ]\, Untere Hauptstraße 10\, Remshalden\, 73630\, Deutschland
ATTACH;FMTTYPE=image/jpeg:https://www.zamma-geradstetten.de/wp-content/uploads/2021/03/20-03-VfB-Fahne_Ansicht-Strasse-3-1.jpeg
END:VEVENT
BEGIN:VEVENT
DTSTART;TZID=Europe/Berlin:20230511T203000
DTEND;TZID=Europe/Berlin:20230512T000000
DTSTAMP:20260420T001059
CREATED:20221207T134915Z
LAST-MODIFIED:20230228T100201Z
UID:15226-1683837000-1683849600@www.zamma-geradstetten.de
SUMMARY:Live Musik im Bistro - Gypsysoul & ANGR
DESCRIPTION:Die beiden sorgen für Rapmusik im Doppelpack auf der [ zamma ] Bühne! \n\n\n\nGypsysoul:Mit ihrer verrauchten Stimme hat sich in dem Genre “Spiritual Hip-Hop” ihr Zuhause gefunden. \n\n\n\nHier könnt ihr in ihre Musik reinhören! \n\n\n\nANGR:Neben Battletexten und tiefsinnigen Messages wird gerne auch sozialkritisches Material auf Beats gepackt. \n\n\n\nHier in seine Musik reinhören!
URL:https://www.zamma-geradstetten.de/event/live-musik-im-bistro-gypsysoul-angr/
END:VEVENT
BEGIN:VEVENT
DTSTART;TZID=Europe/Berlin:20230514T130000
DTEND;TZID=Europe/Berlin:20230514T170000
DTSTAMP:20260420T001059
CREATED:20230228T094058Z
LAST-MODIFIED:20230430T084313Z
UID:16566-1684069200-1684083600@www.zamma-geradstetten.de
SUMMARY:"Vernissage "Spuren Suche" im StiegenHaus
DESCRIPTION:Claudia Kraml & Stefan Werlein präsentieren Spachteltechnik und Keramik bei Ihrer Vernissage “Spuren Suche” im StiegenHaus des [ zamma ]. \n\n\n\nIhre Kunst im Großformat wird bis zum 7. Juli  im HofRaum ausgestellt. Die Skulpturen im StiegenHaus sind bis zum 5. Juni zu bewundern.  \n\n\n\nEinen Einblick könnt ihr euch hier verschaffen!
URL:https://www.zamma-geradstetten.de/event/vernissage-spuren-suche-im-stiegenhaus/
LOCATION:Hofraum im [ zamma ]\, Untere Hauptstraße 10\, Remshalden\, 73630\, Deutschland
ATTACH;FMTTYPE=image/jpeg:https://www.zamma-geradstetten.de/wp-content/uploads/2023/02/Spurensuche_Plakat_zamma-scaled.jpg
END:VEVENT
BEGIN:VEVENT
DTSTART;TZID=Europe/Berlin:20230514T163000
DTEND;TZID=Europe/Berlin:20230514T200000
DTSTAMP:20260420T001059
CREATED:20230417T122554Z
LAST-MODIFIED:20230417T122555Z
UID:18035-1684081800-1684094400@www.zamma-geradstetten.de
SUMMARY:32. Spieltag VfB vs. Leverkusen
DESCRIPTION:Eine Stunde vor Spielbeginn öffnet das rot-weiße Scheunenstadion vor jedem Spieltag des VfB Stuttgarts. Wir übertragen für Euch auf der Großbildleinwand\, es gibt kühles Weißbier und Stadionrote.
URL:https://www.zamma-geradstetten.de/event/32-spieltag-vfb-vs-leverkusen/
LOCATION:Hofraum im [ zamma ]\, Untere Hauptstraße 10\, Remshalden\, 73630\, Deutschland
ATTACH;FMTTYPE=image/jpeg:https://www.zamma-geradstetten.de/wp-content/uploads/2021/03/20-03-VfB-Fahne_Ansicht-Strasse-3-1.jpeg
END:VEVENT
BEGIN:VEVENT
DTSTART;TZID=Europe/Berlin:20230518T203000
DTEND;TZID=Europe/Berlin:20230519T000000
DTSTAMP:20260420T001059
CREATED:20230214T110347Z
LAST-MODIFIED:20230228T101756Z
UID:16112-1684441800-1684454400@www.zamma-geradstetten.de
SUMMARY:Live Musik im Bistro - bölter. (solo)
DESCRIPTION:Philip Bölter ist deutlich mehr als ein gewöhnlicher Liedermacher und sorgt für Blues im [ zamma ] ! \n\n\n\n10 Jahre nach seinem Auftritt bei The voice of Germany und nach weit über 1.200 Konzerten\, sowie über 10 veröffentlichten Alben kommt der auf der schwäbischen Alb beheimatete Mit-dreißig-jährige das erste Mal zu uns. \n\n\n\nAuf seiner Blechgitarre zupft er virtuos die Saiten\, spielt die Akkorde\, Bassläufe und Melodien gleichzeitig. Auf den Schultern das Gestell mit der Mundharmonika\, mit dem Fuß stampft er den Rhythmus auf der Stompbox. Dazu singt er auf Deutsch mit seiner leicht heiser klingenden Stimme. Schließt man die Augen\, klingt er wie eine ganze Band! \n\n\n\nHier könnt ihr in seine Musik reinhören!
URL:https://www.zamma-geradstetten.de/event/live-musik-im-bistro-boelter-solo/
END:VEVENT
BEGIN:VEVENT
DTSTART;TZID=Europe/Berlin:20230521T163000
DTEND;TZID=Europe/Berlin:20230521T200000
DTSTAMP:20260420T001059
CREATED:20230417T123006Z
LAST-MODIFIED:20230417T123007Z
UID:18040-1684686600-1684699200@www.zamma-geradstetten.de
SUMMARY:33. Spieltag Mainz vs. VfB
DESCRIPTION:Eine Stunde vor Spielbeginn öffnet das rot-weiße Scheunenstadion vor jedem Spieltag des VfB Stuttgarts. Wir übertragen für Euch auf der Großbildleinwand\, es gibt kühles Weißbier und Stadionrote.
URL:https://www.zamma-geradstetten.de/event/33-spieltag-mainz-vs-vfb/
LOCATION:Hofraum im [ zamma ]\, Untere Hauptstraße 10\, Remshalden\, 73630\, Deutschland
ATTACH;FMTTYPE=image/jpeg:https://www.zamma-geradstetten.de/wp-content/uploads/2021/03/20-03-VfB-Fahne_Ansicht-Strasse-3-1.jpeg
END:VEVENT
BEGIN:VEVENT
DTSTART;TZID=Europe/Berlin:20230525T203000
DTEND;TZID=Europe/Berlin:20230526T000000
DTSTAMP:20260420T001059
CREATED:20221207T135657Z
LAST-MODIFIED:20230228T100645Z
UID:15232-1685046600-1685059200@www.zamma-geradstetten.de
SUMMARY:Live Musik im Bistro - Sleepwalker´s Station
DESCRIPTION:Indie World Folk in 5 Sprachen – bereits zum dritten Mal auf der [ zamma ] Bühne! \n\n\n\nDie Sprach- und Mundartauswahl spiegelt die Wurzeln und Identität der einzelnen Bandmitglieder wider: So tauchen neben Spanisch\, Italienisch\, Deutsch\, Französisch und Englisch auch Katalanisch\, Bayerisch\, Venezianisch und Andalusisch auf.  \n\n\n\n…1998 in Bayern gegründet\, seit 2011 auf Tour und über 1.000 Liveauftritten in Europe und Amerika. Wer bereits dabei war wird sich erinnern an die vielfältigsten Interpretationen\, stimmungsvollen Arrangements und die hohe Intensität. \n\n\n\nHier in die Musik reinhören!
URL:https://www.zamma-geradstetten.de/event/live-musik-im-bistro-sleepwalkers-station/
END:VEVENT
BEGIN:VEVENT
DTSTART;TZID=Europe/Berlin:20230527T163000
DTEND;TZID=Europe/Berlin:20230527T200000
DTSTAMP:20260420T001059
CREATED:20230417T123149Z
LAST-MODIFIED:20230417T123151Z
UID:18039-1685205000-1685217600@www.zamma-geradstetten.de
SUMMARY:34. Spieltag VfB vs. Hoffenheim
DESCRIPTION:Eine Stunde vor Spielbeginn öffnet das rot-weiße Scheunenstadion vor jedem Spieltag des VfB Stuttgarts. Wir übertragen für Euch auf der Großbildleinwand\, es gibt kühles Weißbier und Stadionrote.
URL:https://www.zamma-geradstetten.de/event/34-spieltag-vfb-vs-hoffenheim/
LOCATION:Hofraum im [ zamma ]\, Untere Hauptstraße 10\, Remshalden\, 73630\, Deutschland
ATTACH;FMTTYPE=image/jpeg:https://www.zamma-geradstetten.de/wp-content/uploads/2021/03/20-03-VfB-Fahne_Ansicht-Strasse-3-1.jpeg
END:VEVENT
END:VCALENDAR