BEGIN:VCALENDAR
VERSION:2.0
PRODID:-//[ zamma ] - ECPv6.15.20//NONSGML v1.0//EN
CALSCALE:GREGORIAN
METHOD:PUBLISH
X-ORIGINAL-URL:https://www.zamma-geradstetten.de
X-WR-CALDESC:Veranstaltungen für [ zamma ]
REFRESH-INTERVAL;VALUE=DURATION:PT1H
X-Robots-Tag:noindex
X-PUBLISHED-TTL:PT1H
BEGIN:VTIMEZONE
TZID:Europe/Berlin
BEGIN:DAYLIGHT
TZOFFSETFROM:+0100
TZOFFSETTO:+0200
TZNAME:CEST
DTSTART:20220327T010000
END:DAYLIGHT
BEGIN:STANDARD
TZOFFSETFROM:+0200
TZOFFSETTO:+0100
TZNAME:CET
DTSTART:20221030T010000
END:STANDARD
BEGIN:DAYLIGHT
TZOFFSETFROM:+0100
TZOFFSETTO:+0200
TZNAME:CEST
DTSTART:20230326T010000
END:DAYLIGHT
BEGIN:STANDARD
TZOFFSETFROM:+0200
TZOFFSETTO:+0100
TZNAME:CET
DTSTART:20231029T010000
END:STANDARD
BEGIN:DAYLIGHT
TZOFFSETFROM:+0100
TZOFFSETTO:+0200
TZNAME:CEST
DTSTART:20240331T010000
END:DAYLIGHT
BEGIN:STANDARD
TZOFFSETFROM:+0200
TZOFFSETTO:+0100
TZNAME:CET
DTSTART:20241027T010000
END:STANDARD
END:VTIMEZONE
BEGIN:VEVENT
DTSTART;TZID=Europe/Berlin:20230203T180000
DTEND;TZID=Europe/Berlin:20230203T230000
DTSTAMP:20260420T051050
CREATED:20221207T130056Z
LAST-MODIFIED:20230228T102956Z
UID:15174-1675447200-1675465200@www.zamma-geradstetten.de
SUMMARY:Weintheke Remshalden
DESCRIPTION:jeden 1. Freitag im Monat – Weintheke Remshalden [ zamma ] probieren. \n\n\n\nRemshaldener Wengerter präsentieren ihre Weine!
URL:https://www.zamma-geradstetten.de/event/weintheke-remshalden/
LOCATION:Hofraum im [ zamma ]\, Untere Hauptstraße 10\, Remshalden\, 73630\, Deutschland
ATTACH;FMTTYPE=image/jpeg:https://www.zamma-geradstetten.de/wp-content/uploads/2022/12/Weintheke_by_Lukas_Ellwanger.jpg
END:VEVENT
BEGIN:VEVENT
DTSTART;TZID=Europe/Berlin:20230205T153000
DTEND;TZID=Europe/Berlin:20230205T190000
DTSTAMP:20260420T051050
CREATED:20221207T122113Z
LAST-MODIFIED:20230228T102942Z
UID:15149-1675611000-1675623600@www.zamma-geradstetten.de
SUMMARY:19. Spieltag VfB vs. Werder Bremen
DESCRIPTION:Eine Stunde vor Spielbeginn öffnet das rot-weiße Scheunenstadion vor jedem Spieltag des VfB Stuttgarts. Wir übertragen für Euch auf der Großbildleinwand\, es gibt kühles Weißbier und Stadionrote.
URL:https://www.zamma-geradstetten.de/event/19-vfb-vs-werder-bremen/
LOCATION:Hofraum im [ zamma ]\, Untere Hauptstraße 10\, Remshalden\, 73630\, Deutschland
ATTACH;FMTTYPE=image/jpeg:https://www.zamma-geradstetten.de/wp-content/uploads/2021/03/20-03-VfB-Fahne_Ansicht-Strasse-3-1.jpeg
END:VEVENT
BEGIN:VEVENT
DTSTART;TZID=Europe/Berlin:20230209T193000
DTEND;TZID=Europe/Berlin:20230209T230000
DTSTAMP:20260420T051050
CREATED:20221207T133322Z
LAST-MODIFIED:20230228T102836Z
UID:15209-1675971000-1675983600@www.zamma-geradstetten.de
SUMMARY:Live Musik im Bistro - September
DESCRIPTION:mit einem Klassiker starten wir ins Musik Jahr 2023 . \nIst es Jazz? Ist es Latin oder gar Weltmusik? Die Antwort darauf hat die Band nie wirklich interessiert. „Kunstvoll\, komplex\, unterhaltsam: September“ \nHier in ihre Musik reinhören!
URL:https://www.zamma-geradstetten.de/event/live-musik-im-bistro-september/
ATTACH;FMTTYPE=image/jpeg:https://www.zamma-geradstetten.de/wp-content/uploads/2022/10/Pressefoto-SEPTEMBER-mittel_DorisBredow-scaled.jpg
END:VEVENT
BEGIN:VEVENT
DTSTART;TZID=Europe/Berlin:20230211T153000
DTEND;TZID=Europe/Berlin:20230211T190000
DTSTAMP:20260420T051050
CREATED:20221207T123326Z
LAST-MODIFIED:20230228T102928Z
UID:15151-1676129400-1676142000@www.zamma-geradstetten.de
SUMMARY:20. Spieltag Freiburg vs. VfB
DESCRIPTION:Eine Stunde vor Spielbeginn öffnet das rot-weiße Scheunenstadion vor jedem Spieltag des VfB Stuttgarts. Wir übertragen für Euch auf der Großbildleinwand\, es gibt kühles Weißbier und Stadionrote.
URL:https://www.zamma-geradstetten.de/event/20-freiburg-vs-vfb/
LOCATION:Hofraum im [ zamma ]\, Untere Hauptstraße 10\, Remshalden\, 73630\, Deutschland
ATTACH;FMTTYPE=image/jpeg:https://www.zamma-geradstetten.de/wp-content/uploads/2021/03/20-03-VfB-Fahne_Ansicht-Strasse-3-1.jpeg
END:VEVENT
BEGIN:VEVENT
DTSTART;TZID=Europe/Berlin:20230212T150000
DTEND;TZID=Europe/Berlin:20230212T180000
DTSTAMP:20260420T051050
CREATED:20221207T131653Z
LAST-MODIFIED:20230228T102755Z
UID:15197-1676214000-1676224800@www.zamma-geradstetten.de
SUMMARY:Café mit der ev. Kirche Geradstetten
DESCRIPTION:Herzliche Einladung zum Café mit hausgemachten Kuchen und feinen Café-Spezialitäten. Ein gemütlicher Nachmittag zum schwätza und genießa mit der evangelischen Kirchengemeinde und dem [ zamma ] Team.
URL:https://www.zamma-geradstetten.de/event/cafe-mit-der-ev-kirche-geradstetten/
LOCATION:Hofraum im [ zamma ]\, Untere Hauptstraße 10\, Remshalden\, 73630\, Deutschland
ATTACH;FMTTYPE=image/jpeg:https://www.zamma-geradstetten.de/wp-content/uploads/2022/01/2019-leckerer-Kuchen-.jpg
ORGANIZER;CN="Hofraum GbR":MAILTO:info@hofraum.com
END:VEVENT
BEGIN:VEVENT
DTSTART;TZID=Europe/Berlin:20230216T193000
DTEND;TZID=Europe/Berlin:20230216T230000
DTSTAMP:20260420T051050
CREATED:20221207T133809Z
LAST-MODIFIED:20230228T102741Z
UID:15211-1676575800-1676588400@www.zamma-geradstetten.de
SUMMARY:Live Musik im Bistro - Linebug
DESCRIPTION:zu Gast aus Dänemark: Linebug die Songwriterin Line Bøgh und der Maler und digitaler Künstler Christian Gundtoft. \nEin cinématisches Konzert bei dem Zeichnungen und Animation eng verbunden mit der Musik auf die Bühne projiziert werden. Alles entsteht spontan an Ort und Stelle. Die Mischung aus Musik und live Zeichnung kreiert ein einzigartiges und intimes Erlebnis. \nHier in ihre Musik reinhören!
URL:https://www.zamma-geradstetten.de/event/live-musik-im-bistro-linebug/
ATTACH;FMTTYPE=image/jpeg:https://www.zamma-geradstetten.de/wp-content/uploads/2022/10/Linebug-CSF-hoj-oplosning-kleiner-scaled.jpg
END:VEVENT
BEGIN:VEVENT
DTSTART;TZID=Europe/Berlin:20230218T153000
DTEND;TZID=Europe/Berlin:20230218T190000
DTSTAMP:20260420T051050
CREATED:20221207T123537Z
LAST-MODIFIED:20230228T102730Z
UID:15153-1676734200-1676746800@www.zamma-geradstetten.de
SUMMARY:21. Spieltag VfB vs. Köln
DESCRIPTION:Eine Stunde vor Spielbeginn öffnet das rot-weiße Scheunenstadion vor jedem Spieltag des VfB Stuttgarts. Wir übertragen für Euch auf der Großbildleinwand\, es gibt kühles Weißbier und Stadionrote.
URL:https://www.zamma-geradstetten.de/event/21-vfb-vs-koeln/
LOCATION:Hofraum im [ zamma ]\, Untere Hauptstraße 10\, Remshalden\, 73630\, Deutschland
ATTACH;FMTTYPE=image/jpeg:https://www.zamma-geradstetten.de/wp-content/uploads/2021/03/20-03-VfB-Fahne_Ansicht-Strasse-3-1.jpeg
END:VEVENT
BEGIN:VEVENT
DTSTART;TZID=Europe/Berlin:20230223T193000
DTEND;TZID=Europe/Berlin:20230223T230000
DTSTAMP:20260420T051050
CREATED:20221207T133953Z
LAST-MODIFIED:20230301T120717Z
UID:15213-1677180600-1677193200@www.zamma-geradstetten.de
SUMMARY:Live Musik im Bistro - Sophie Chassée
DESCRIPTION:Yes\, der neue Termin für den kurzfristig ausgefallenen Auftritt im September 22 steht. \n\n\n\nSophie Chassée hat in ihrem vollen Kalender zwischen den live Auftritten mit Annenmaykantereit eine Lücke gefunden und kommt zu Ihrem Gitarren Solo Auftritt ins [ zamma ].  \n\n\n\nHier in ihre Musik reinhören!
URL:https://www.zamma-geradstetten.de/event/live-musik-im-bistro-sophie-chassee/
ATTACH;FMTTYPE=image/jpeg:https://www.zamma-geradstetten.de/wp-content/uploads/2022/08/2021-08-Sophie-.jpg
END:VEVENT
BEGIN:VEVENT
DTSTART;TZID=Europe/Berlin:20230225T183000
DTEND;TZID=Europe/Berlin:20230225T220000
DTSTAMP:20260420T051050
CREATED:20221207T123758Z
LAST-MODIFIED:20230228T102445Z
UID:15155-1677349800-1677362400@www.zamma-geradstetten.de
SUMMARY:22. Spieltag Schalke vs. VfB
DESCRIPTION:Eine Stunde vor Spielbeginn öffnet das rot-weiße Scheunenstadion vor jedem Spieltag des VfB Stuttgarts. Wir übertragen für Euch auf der Großbildleinwand\, es gibt kühles Weißbier und Stadionrote.
URL:https://www.zamma-geradstetten.de/event/22-schalke-vs-vfb/
LOCATION:Hofraum im [ zamma ]\, Untere Hauptstraße 10\, Remshalden\, 73630\, Deutschland
ATTACH;FMTTYPE=image/jpeg:https://www.zamma-geradstetten.de/wp-content/uploads/2021/03/20-03-VfB-Fahne_Ansicht-Strasse-3-1.jpeg
END:VEVENT
END:VCALENDAR