BEGIN:VCALENDAR
VERSION:2.0
PRODID:-//[ zamma ] - ECPv6.15.20//NONSGML v1.0//EN
CALSCALE:GREGORIAN
METHOD:PUBLISH
X-ORIGINAL-URL:https://www.zamma-geradstetten.de
X-WR-CALDESC:Veranstaltungen für [ zamma ]
REFRESH-INTERVAL;VALUE=DURATION:PT1H
X-Robots-Tag:noindex
X-PUBLISHED-TTL:PT1H
BEGIN:VTIMEZONE
TZID:Europe/Berlin
BEGIN:DAYLIGHT
TZOFFSETFROM:+0100
TZOFFSETTO:+0200
TZNAME:CEST
DTSTART:20210328T010000
END:DAYLIGHT
BEGIN:STANDARD
TZOFFSETFROM:+0200
TZOFFSETTO:+0100
TZNAME:CET
DTSTART:20211031T010000
END:STANDARD
BEGIN:DAYLIGHT
TZOFFSETFROM:+0100
TZOFFSETTO:+0200
TZNAME:CEST
DTSTART:20220327T010000
END:DAYLIGHT
BEGIN:STANDARD
TZOFFSETFROM:+0200
TZOFFSETTO:+0100
TZNAME:CET
DTSTART:20221030T010000
END:STANDARD
BEGIN:DAYLIGHT
TZOFFSETFROM:+0100
TZOFFSETTO:+0200
TZNAME:CEST
DTSTART:20230326T010000
END:DAYLIGHT
BEGIN:STANDARD
TZOFFSETFROM:+0200
TZOFFSETTO:+0100
TZNAME:CET
DTSTART:20231029T010000
END:STANDARD
BEGIN:DAYLIGHT
TZOFFSETFROM:+0100
TZOFFSETTO:+0200
TZNAME:CEST
DTSTART:20240331T010000
END:DAYLIGHT
BEGIN:STANDARD
TZOFFSETFROM:+0200
TZOFFSETTO:+0100
TZNAME:CET
DTSTART:20241027T010000
END:STANDARD
END:VTIMEZONE
BEGIN:VEVENT
DTSTART;TZID=Europe/Berlin:20221221T130000
DTEND;TZID=Europe/Berlin:20230120T130000
DTSTAMP:20260420T080920
CREATED:20221027T080357Z
LAST-MODIFIED:20230315T104937Z
UID:14532-1671627600-1674219600@www.zamma-geradstetten.de
SUMMARY:Winterschlaf
DESCRIPTION:Über den Jahreswechsel befindet sich unsere Kulturscheune im Winterschlaf.  \n\n\n\nDas ist auch immer ein guter Zeitpunkt\, um in Erinnerungen zu schwelgen und zu reflektieren. Dabei ist uns erneut bewusst geworden\, dass ohne euch nichts möglich ist! Daher möchten wir Danke sagen für die unvergesslichen Momente voller Stimmung. Ihr seid der Grund\, Ansporn und Dank zugleich!  \n\n\n\nNur für die VfB Spiele kommen wir mal kurz aus unserer Höhle raus! Und zwar an den folgenden Terminen: 21.01.VfB vs. Mainz / 25.01. Hoffenheim vs. VfB / 27.01. Leipzig vs.VfB / 31.01. Pokal Paderborn vs VfB.
URL:https://www.zamma-geradstetten.de/event/winterschlaf/
END:VEVENT
END:VCALENDAR